BEGIN:VCALENDAR
VERSION:2.0
PRODID:-//青森市薬剤師会 - ECPv5.6.0//NONSGML v1.0//EN
CALSCALE:GREGORIAN
METHOD:PUBLISH
X-WR-CALNAME:青森市薬剤師会
X-ORIGINAL-URL:https://aomorishiyakuzaishikai.jp
X-WR-CALDESC:青森市薬剤師会 のイベント
BEGIN:VTIMEZONE
TZID:Asia/Tokyo
BEGIN:STANDARD
TZOFFSETFROM:+0900
TZOFFSETTO:+0900
TZNAME:JST
DTSTART:20240101T000000
END:STANDARD
END:VTIMEZONE
BEGIN:VEVENT
DTSTART;TZID=Asia/Tokyo:20240809T133000
DTEND;TZID=Asia/Tokyo:20240809T143000
DTSTAMP:20260425T194226
CREATED:20240729T021525Z
LAST-MODIFIED:20240729T021525Z
UID:13689-1723210200-1723213800@aomorishiyakuzaishikai.jp
SUMMARY:令和6年度青森市献血推進協議会総会
DESCRIPTION:
URL:https://aomorishiyakuzaishikai.jp/event/%e4%bb%a4%e5%92%8c6%e5%b9%b4%e5%ba%a6%e9%9d%92%e6%a3%ae%e5%b8%82%e7%8c%ae%e8%a1%80%e6%8e%a8%e9%80%b2%e5%8d%94%e8%ad%b0%e4%bc%9a%e7%b7%8f%e4%bc%9a/
END:VEVENT
END:VCALENDAR